BEGIN:VCALENDAR
VERSION:2.0
PRODID:spatie/icalendar-generator
NAME:tierlehrerin.de
X-WR-CALNAME:tierlehrerin.de
BEGIN:VTIMEZONE
TZID:Europe/Berlin
BEGIN:STANDARD
DTSTART:20251026T030000
TZOFFSETFROM:+0200
TZOFFSETTO:+0100
END:STANDARD
BEGIN:DAYLIGHT
DTSTART:20260329T010000
TZOFFSETFROM:+0100
TZOFFSETTO:+0200
END:DAYLIGHT
BEGIN:STANDARD
DTSTART:20261025T030000
TZOFFSETFROM:+0200
TZOFFSETTO:+0100
END:STANDARD
END:VTIMEZONE
BEGIN:VTIMEZONE
TZID:UTC
BEGIN:STANDARD
DTSTART:20250723T151231
TZOFFSETFROM:+0000
TZOFFSETTO:+0000
END:STANDARD
END:VTIMEZONE
BEGIN:VEVENT
UID:69e4f0df51dfe
DTSTAMP:20260419T151231Z
SUMMARY:Dummyseminar Einweisen und Handling
DESCRIPTION:Dieses Seminar hilft Hundeführern auf A/F Niveau\, ihre Kommun
 ikation mit dem Hund zu verbessern\, typische Fehler im Training zu erkenn
 en und gezielt zu lösen. Durch eine klare Signalgebung\, strukturierten A
 ufbau und gezielte Übungen wird die Teamarbeit auf Distanz gestärkt. So 
 gelingt ein effektives …
ORGANIZER;CN=Melanie Stühler:MAILTO:info@tierlehrerin.de
DTSTART;TZID=Europe/Berlin:20260425T090000
DTEND;TZID=Europe/Berlin:20260426T153000
END:VEVENT
END:VCALENDAR